BEGIN:VCALENDAR
VERSION:2.0
PRODID:-//Reptile Shows of New England - ECPv6.15.20//NONSGML v1.0//EN
CALSCALE:GREGORIAN
METHOD:PUBLISH
X-ORIGINAL-URL:https://reptileshowsofnewengland.com
X-WR-CALDESC:Events for Reptile Shows of New England
REFRESH-INTERVAL;VALUE=DURATION:PT1H
X-Robots-Tag:noindex
X-PUBLISHED-TTL:PT1H
BEGIN:VTIMEZONE
TZID:UTC
BEGIN:STANDARD
TZOFFSETFROM:+0000
TZOFFSETTO:+0000
TZNAME:UTC
DTSTART:20170101T000000
END:STANDARD
END:VTIMEZONE
BEGIN:VEVENT
DTSTART;TZID=UTC:20180629T080000
DTEND;TZID=UTC:20180701T170000
DTSTAMP:20260421T093648
CREATED:20180524T132527Z
LAST-MODIFIED:20180524T133543Z
UID:16300-1530259200-1530464400@reptileshowsofnewengland.com
SUMMARY:Cars of Summer 2018 (SUMMER NATIONALS!) June 29th\, 30th and July 1st
DESCRIPTION:Join us at Green Hill Park in Worcester\, MA June 29th\, 30th and July 1st as we showcase some of the amazing stars of our reptile show!\nHold and get your photo taken with a Boa Constrictor and other amazing reptiles from around the world!\nShow Location: Green Hill Parkway – Green Hill Park\, Worcester MA 01604
URL:https://reptileshowsofnewengland.com/event/cars-of-summer-2018-summer-nationals-june-29th-30th-and-july-1st/
LOCATION:RI
CATEGORIES:Family Fun
END:VEVENT
BEGIN:VEVENT
DTSTART;TZID=UTC:20180702T190000
DTEND;TZID=UTC:20180702T210000
DTSTAMP:20260421T093648
CREATED:20171203T160516Z
LAST-MODIFIED:20171203T160516Z
UID:15894-1530558000-1530565200@reptileshowsofnewengland.com
SUMMARY:Pine Acres Family Camping Resort
DESCRIPTION:
URL:https://reptileshowsofnewengland.com/event/pine-acres-family-camping-resort/
LOCATION:Pine Acres Family Camping Resort\, 203 Bechan Rd\, Oakham\, MA\, 01068\, United States
CATEGORIES:Camp,Family Fun
END:VEVENT
BEGIN:VEVENT
DTSTART;TZID=UTC:20180712T080000
DTEND;TZID=UTC:20180715T170000
DTSTAMP:20260421T093648
CREATED:20180329T144826Z
LAST-MODIFIED:20180330T112937Z
UID:16155-1531382400-1531674000@reptileshowsofnewengland.com
SUMMARY:Bradford Fair Vermont
DESCRIPTION:Join us July 12th through the 15th at the Bradford Fair in Vermont! We will be there with reptiles from around the world! Come see us for a hands on close encounter of the cold blooded kind!
URL:https://reptileshowsofnewengland.com/event/bradford-fair-vermont/
LOCATION:Bradford Fair Vermont\, 66 Carson Lane\, Bradford\, Vermont\, 05033
CATEGORIES:Family Fun,Town Fair
END:VEVENT
END:VCALENDAR