BEGIN:VCALENDAR
VERSION:2.0
PRODID:-//Reptile Shows of New England - ECPv6.15.20//NONSGML v1.0//EN
CALSCALE:GREGORIAN
METHOD:PUBLISH
X-WR-CALNAME:Reptile Shows of New England
X-ORIGINAL-URL:https://reptileshowsofnewengland.com
X-WR-CALDESC:Events for Reptile Shows of New England
REFRESH-INTERVAL;VALUE=DURATION:PT1H
X-Robots-Tag:noindex
X-PUBLISHED-TTL:PT1H
BEGIN:VTIMEZONE
TZID:UTC
BEGIN:STANDARD
TZOFFSETFROM:+0000
TZOFFSETTO:+0000
TZNAME:UTC
DTSTART:20170101T000000
END:STANDARD
END:VTIMEZONE
BEGIN:VEVENT
DTSTART;TZID=UTC:20180802T100000
DTEND;TZID=UTC:20180805T170000
DTSTAMP:20260421T093329
CREATED:20180721T111551Z
LAST-MODIFIED:20180721T111551Z
UID:16376-1533204000-1533488400@reptileshowsofnewengland.com
SUMMARY:Cheshire Fair · Swanzey\, New Hampshire
DESCRIPTION:August 2 – 5\, 2018 \nOpen 8:00 AM – 10:00 PM Daily \n“Children’s Day” Thursday\, August 2nd\nAll Children under 12 – Free Admission (Thursday Only)\nGeneral Admission \nAdults $10.00 Children 5-12 $5.00 Under 4 Free\nSenior Citizens (65 and over) $5.00 Thursday – Saturday\n“Senior Citizen Day”    Sunday    Free  \nMilitary Free (Must have ID) includes FREE admission to Grandstand Events\n  \nFREE PARKING
URL:https://reptileshowsofnewengland.com/event/cheshire-fair-%c2%b7-swanzey-new-hampshire/
LOCATION:Cheshire Fair\, 247 Monadnock Hwy\, Swanzey\,\, New Hampshire\, 03446
CATEGORIES:Family Fun,Town Fair
END:VEVENT
END:VCALENDAR