BEGIN:VCALENDAR
VERSION:2.0
PRODID:-//Reptile Shows of New England - ECPv6.15.20//NONSGML v1.0//EN
CALSCALE:GREGORIAN
METHOD:PUBLISH
X-WR-CALNAME:Reptile Shows of New England
X-ORIGINAL-URL:https://reptileshowsofnewengland.com
X-WR-CALDESC:Events for Reptile Shows of New England
REFRESH-INTERVAL;VALUE=DURATION:PT1H
X-Robots-Tag:noindex
X-PUBLISHED-TTL:PT1H
BEGIN:VTIMEZONE
TZID:UTC
BEGIN:STANDARD
TZOFFSETFROM:+0000
TZOFFSETTO:+0000
TZNAME:UTC
DTSTART:20170101T000000
END:STANDARD
END:VTIMEZONE
BEGIN:VEVENT
DTSTART;TZID=UTC:20180712T080000
DTEND;TZID=UTC:20180715T170000
DTSTAMP:20260421T104844
CREATED:20180329T144826Z
LAST-MODIFIED:20180330T112937Z
UID:16155-1531382400-1531674000@reptileshowsofnewengland.com
SUMMARY:Bradford Fair Vermont
DESCRIPTION:Join us July 12th through the 15th at the Bradford Fair in Vermont! We will be there with reptiles from around the world! Come see us for a hands on close encounter of the cold blooded kind!
URL:https://reptileshowsofnewengland.com/event/bradford-fair-vermont/
LOCATION:Bradford Fair Vermont\, 66 Carson Lane\, Bradford\, Vermont\, 05033
CATEGORIES:Family Fun,Town Fair
END:VEVENT
END:VCALENDAR