BEGIN:VCALENDAR
VERSION:2.0
PRODID:-//Reptile Shows of New England - ECPv6.15.20//NONSGML v1.0//EN
CALSCALE:GREGORIAN
METHOD:PUBLISH
X-WR-CALNAME:Reptile Shows of New England
X-ORIGINAL-URL:https://reptileshowsofnewengland.com
X-WR-CALDESC:Events for Reptile Shows of New England
REFRESH-INTERVAL;VALUE=DURATION:PT1H
X-Robots-Tag:noindex
X-PUBLISHED-TTL:PT1H
BEGIN:VTIMEZONE
TZID:UTC
BEGIN:STANDARD
TZOFFSETFROM:+0000
TZOFFSETTO:+0000
TZNAME:UTC
DTSTART:20160101T000000
END:STANDARD
END:VTIMEZONE
BEGIN:VEVENT
DTSTART;TZID=UTC:20170820T090000
DTEND;TZID=UTC:20170820T170000
DTSTAMP:20260422T030805
CREATED:20170516T212507Z
LAST-MODIFIED:20170517T111045Z
UID:15122-1503219600-1503248400@reptileshowsofnewengland.com
SUMMARY:New England Adventures 1st Annual Family Day
DESCRIPTION:August 20th 2017\nCamp Shepard 370 Northwest Rd. Westfield MA\nFrom 9:00 AM to 5:00 PM \nThis will be New England Adventures first annual Family day.  This event will be held at Camp Shepard in Westfield MA.  The event is co-sponsored by New England Reptile Shows.  This event is free for veterans and family members.  We will have swimming\, archery\, a reptile show\, BBQ\, ropes course\, and all kinds of fun for the whole family. \nThis event is for veterans and family members only. There is no cost for this event but sign up is mandatory. \nPlease call: 413-328-3761 or email todd@newenglandadventures.org for details.
URL:https://reptileshowsofnewengland.com/event/new-england-adventures-1st-annual-family-day/
LOCATION:Camp Shepard\, 370 Northwest Rd. \, Westfield \, MA
CATEGORIES:Family Fun
ORGANIZER;CN="Todd Crevier":MAILTO:todd@NewEnglandAdventures.org
END:VEVENT
END:VCALENDAR